BEGIN:VCALENDAR
VERSION:2.0
PRODID:-//Harvey Heritage - ECPv6.15.20//NONSGML v1.0//EN
CALSCALE:GREGORIAN
METHOD:PUBLISH
X-WR-CALNAME:Harvey Heritage
X-ORIGINAL-URL:https://harveyheritage.ca
X-WR-CALDESC:Events for Harvey Heritage
REFRESH-INTERVAL;VALUE=DURATION:PT1H
X-Robots-Tag:noindex
X-PUBLISHED-TTL:PT1H
BEGIN:VTIMEZONE
TZID:America/Moncton
BEGIN:DAYLIGHT
TZOFFSETFROM:-0400
TZOFFSETTO:-0300
TZNAME:ADT
DTSTART:20240310T060000
END:DAYLIGHT
BEGIN:STANDARD
TZOFFSETFROM:-0300
TZOFFSETTO:-0400
TZNAME:AST
DTSTART:20241103T050000
END:STANDARD
BEGIN:DAYLIGHT
TZOFFSETFROM:-0400
TZOFFSETTO:-0300
TZNAME:ADT
DTSTART:20250309T060000
END:DAYLIGHT
BEGIN:STANDARD
TZOFFSETFROM:-0300
TZOFFSETTO:-0400
TZNAME:AST
DTSTART:20251102T050000
END:STANDARD
BEGIN:DAYLIGHT
TZOFFSETFROM:-0400
TZOFFSETTO:-0300
TZNAME:ADT
DTSTART:20260308T060000
END:DAYLIGHT
BEGIN:STANDARD
TZOFFSETFROM:-0300
TZOFFSETTO:-0400
TZNAME:AST
DTSTART:20261101T050000
END:STANDARD
END:VTIMEZONE
BEGIN:VEVENT
DTSTART;TZID=America/Moncton:20251114T170000
DTEND;TZID=America/Moncton:20251114T190000
DTSTAMP:20260424T173701
CREATED:20260326T200700Z
LAST-MODIFIED:20260326T200700Z
UID:14009-1763139600-1763146800@harveyheritage.ca
SUMMARY:Open Mic Poetry Reading
DESCRIPTION:CALLING ALL POETS AND STORY TELLERS! Once again\, Harvey Heritage is hosting an open mic poetry reading at the Big Fiddle Still on November 14\, 2025\, from 5 pm to 7 pm. Admission is by donation. \nCreating poetry and verse was a favourite pastime in days gone by and is still enjoyed by many today. All types of poetry and short stories are welcome at this session. Some of the presented poetry and stories will be from the Harvey Heritage historical archives\, and some will be original creations. \nFor more information\, email harveyhistoricalassociation@gmail.com or contact Sheryl Bartlett on Facebook or by calling 506 366 3920 and leave a message for her to call you back. \nWe thank Trent Jewett of the Big Fiddle Still for graciously allowing us to use the Still’s venue for this novel event. We are looking forward to a fun and cultural time! \n  \n\n 
URL:https://harveyheritage.ca/event/open-mic-poetry-reading/
LOCATION:Big Fiddle Still\, 2048 Route 3\, Harvey Station\, New Brunswick\, E6K 3X8\, Canada
CATEGORIES:Meeting
ATTACH;FMTTYPE=image/jpeg:https://harveyheritage.ca/wp-content/uploads/2025/10/Harvey-Heritage-Poetry-Night-Event-Header-SM.jpg
ORGANIZER;CN="Harvey Heritage":MAILTO:Hello@HarveyHeritage.ca
END:VEVENT
END:VCALENDAR