BEGIN:VCALENDAR
VERSION:2.0
PRODID:-//Harvey Heritage - ECPv6.15.20//NONSGML v1.0//EN
CALSCALE:GREGORIAN
METHOD:PUBLISH
X-WR-CALNAME:Harvey Heritage
X-ORIGINAL-URL:https://harveyheritage.ca
X-WR-CALDESC:Events for Harvey Heritage
REFRESH-INTERVAL;VALUE=DURATION:PT1H
X-Robots-Tag:noindex
X-PUBLISHED-TTL:PT1H
BEGIN:VTIMEZONE
TZID:America/Moncton
BEGIN:DAYLIGHT
TZOFFSETFROM:-0400
TZOFFSETTO:-0300
TZNAME:ADT
DTSTART:20240310T060000
END:DAYLIGHT
BEGIN:STANDARD
TZOFFSETFROM:-0300
TZOFFSETTO:-0400
TZNAME:AST
DTSTART:20241103T050000
END:STANDARD
BEGIN:DAYLIGHT
TZOFFSETFROM:-0400
TZOFFSETTO:-0300
TZNAME:ADT
DTSTART:20250309T060000
END:DAYLIGHT
BEGIN:STANDARD
TZOFFSETFROM:-0300
TZOFFSETTO:-0400
TZNAME:AST
DTSTART:20251102T050000
END:STANDARD
BEGIN:DAYLIGHT
TZOFFSETFROM:-0400
TZOFFSETTO:-0300
TZNAME:ADT
DTSTART:20260308T060000
END:DAYLIGHT
BEGIN:STANDARD
TZOFFSETFROM:-0300
TZOFFSETTO:-0400
TZNAME:AST
DTSTART:20261101T050000
END:STANDARD
END:VTIMEZONE
BEGIN:VEVENT
DTSTART;TZID=America/Moncton:20251018T140000
DTEND;TZID=America/Moncton:20251018T170000
DTSTAMP:20260424T173057
CREATED:20260326T195515Z
LAST-MODIFIED:20260326T195612Z
UID:14000-1760796000-1760806800@harveyheritage.ca
SUMMARY:Graveyard Tour
DESCRIPTION:Join us for an afternoon of touring some cemeteries of Harvey Rural Community. We’ll be visiting several graveyards throughout the area and learning about some of the notable people buried there. \nParticipants will first meet at the Harvey Heritage Office at the Upper Village Mall\, Unit 7\, 2306 Route 3\, Harvey. The tour will then proceed along Route 3 towards York Mills\, turning right along Route 635\, driving to Route 636\, turning right towards the Village\, then ending up back at the Harvey Heritage Office. \nCemeteries will include\, but are not limited to\, the Harvey Settlement Cemetery and the Old Magundy Church Yard. Due to the lengthy distances\, we couldn’t include all the cemeteries in Harvey and hope to offer tours of some of them sometime in the future. \nThe cost of the tour is $10 for members in good standing and $15 for others.\nPayment can be made by cheque\, cash\, or e-transfer to harveyhistoricalassociation@gmail.com. \nA maximum of 20 people will be signed up on a first-come\, first-served basis. Please consider carpooling if possible. \nThe tour could take up to 3 hours with lots of driving and walking. There is no access to restrooms along the way\, and participants may want to bring drinks and snacks with them. \nWe are looking forward to an engaging time on a beautiful autumn day! \n\n \n\nEVENT DETAILS\nGraveyard Tour \nWhen: Saturday\, October 18 | 2:00 pm\nWhere: Harvey Heritage (Unit 7\, 2306 Route 3\, Harvey\, NB\, Canada\, New Brunswick E6K 1P2)\nAdmission: $10 (members) / $15
URL:https://harveyheritage.ca/event/graveyard-tour/
LOCATION:Harvey Heritage\, Unit 7\, 2306 Route 3\, Harvey Station\, New Brunswick\, E6K 1P2\, Canada
CATEGORIES:Tour
ATTACH;FMTTYPE=image/jpeg:https://harveyheritage.ca/wp-content/uploads/2025/10/Harvey-Heritage-Graveyard-Tour-Event-Header-SM.jpg
ORGANIZER;CN="Harvey Heritage":MAILTO:Hello@HarveyHeritage.ca
END:VEVENT
END:VCALENDAR