BEGIN:VCALENDAR
VERSION:2.0
PRODID:-//Harvey Heritage - ECPv6.15.20//NONSGML v1.0//EN
CALSCALE:GREGORIAN
METHOD:PUBLISH
X-ORIGINAL-URL:https://harveyheritage.ca
X-WR-CALDESC:Events for Harvey Heritage
REFRESH-INTERVAL;VALUE=DURATION:PT1H
X-Robots-Tag:noindex
X-PUBLISHED-TTL:PT1H
BEGIN:VTIMEZONE
TZID:America/Moncton
BEGIN:DAYLIGHT
TZOFFSETFROM:-0400
TZOFFSETTO:-0300
TZNAME:ADT
DTSTART:20250309T060000
END:DAYLIGHT
BEGIN:STANDARD
TZOFFSETFROM:-0300
TZOFFSETTO:-0400
TZNAME:AST
DTSTART:20251102T050000
END:STANDARD
BEGIN:DAYLIGHT
TZOFFSETFROM:-0400
TZOFFSETTO:-0300
TZNAME:ADT
DTSTART:20260308T060000
END:DAYLIGHT
BEGIN:STANDARD
TZOFFSETFROM:-0300
TZOFFSETTO:-0400
TZNAME:AST
DTSTART:20261101T050000
END:STANDARD
BEGIN:DAYLIGHT
TZOFFSETFROM:-0400
TZOFFSETTO:-0300
TZNAME:ADT
DTSTART:20270314T060000
END:DAYLIGHT
BEGIN:STANDARD
TZOFFSETFROM:-0300
TZOFFSETTO:-0400
TZNAME:AST
DTSTART:20271107T050000
END:STANDARD
END:VTIMEZONE
BEGIN:VEVENT
DTSTART;TZID=America/Moncton:20260512T180000
DTEND;TZID=America/Moncton:20260512T200000
DTSTAMP:20260424T112624
CREATED:20260326T181033Z
LAST-MODIFIED:20260413T191618Z
UID:13954-1778608800-1778616000@harveyheritage.ca
SUMMARY:2026 Annual General Meeting
DESCRIPTION:The most significant event of our spring calendar is on the horizon: our 2026 Annual General Meeting. This is our most important meeting of the year. It is a time to celebrate our accomplishments\, reflect on our progress\, elect our Board of Directors\, and take a look forward at the year to come. \nWe are currently seeking engaged community members to join our leadership team. If you have a passion for local history\, we encourage you to stand for the board or put forward a nomination during the business portion of the evening. \nWe hope you will join us for an evening of light bureaucracy with two special presentations! \n\nFEATURED PRESENTATIONS\nThe Impacts of Architectural Restoration\nMeg Doughty and Aaron Rasenberg | Archwood Millwork & Restoration \nRepair\, restore\, reuse. In a society groomed to consume\, the rapid cycle of production\, consumption\, and replacement of our material culture has put at risk our sense of place and community\, our environment and depleted our natural resources. The history of a place\, storied and embodied by objects of material culture\, hand in hand with the health of the local environment\, is what makes a place a desirable place to inhabit. This is what motivates an approach to our historic homes and buildings that is characterised by stewardship. For buildings in danger of disappearing\, the repair and adaptive reuse of these structures is a way to conserve wealth while reducing waste. It is an approach that helps build a thriving local economy\, a healthy environment\, and a vibrant sense of community. \n  \nA Quick History of Barn Quilts\nElizabeth MacLean \nCurious about the barn quilts popping up in our community? Join us to learn about their origins\, cultural significance\, and the art movement behind them! Discover how barn quilts can celebrate heritage\, storytelling and creativity while bringing our community together. Come and learn how you can participate in creating a vibrant story of our community. \n\n \n\nEVENT DETAILS\nHarvey Heritage 2026 Annual General Meeting \nBoard Elections & Nominations: We will be electing the 2026 Board of Directors. Nominations will be accepted from the floor\, and all members in good standing are eligible to stand for a position.\nMembership: Collection 2026 annual membership fees ($10)\nProject Updates: A look at our recent initiative and upcoming summer plans.\nPresentations:\n \n\nArchitectural Restoration & Adaptive Reuse (Archwood Millwork & Restoration)\nA Brief History of Barn Quilts (Elizabeth MacLean)\n\nWhen: Tuesday\, May 12 | 6:00 pm – 8:00 pm\nWhere: Harvey Heritage Office (2306 Route 3)\nAdmission: Annual Membership Fee ($10)
URL:https://harveyheritage.ca/event/2026-annual-general-meeting/
LOCATION:Harvey Community Library\, 2055 Route 3\, Harvey Station\, New Brunswick\, E6K 1P2\, Canada
CATEGORIES:Meeting
ATTACH;FMTTYPE=image/jpeg:https://harveyheritage.ca/wp-content/uploads/2026/03/Harvey-Heritage-AGM-Header-scaled.jpg
ORGANIZER;CN="Harvey Heritage":MAILTO:Hello@HarveyHeritage.ca
END:VEVENT
END:VCALENDAR